BEGIN:VCALENDAR
VERSION:2.0
PRODID:-// - ECPv6.15.18//NONSGML v1.0//EN
CALSCALE:GREGORIAN
METHOD:PUBLISH
X-ORIGINAL-URL:https://stabystars.dk
X-WR-CALDESC:Begivenheder for 
REFRESH-INTERVAL;VALUE=DURATION:PT1H
X-Robots-Tag:noindex
X-PUBLISHED-TTL:PT1H
BEGIN:VTIMEZONE
TZID:Europe/Copenhagen
BEGIN:DAYLIGHT
TZOFFSETFROM:+0100
TZOFFSETTO:+0200
TZNAME:CEST
DTSTART:20250330T010000
END:DAYLIGHT
BEGIN:STANDARD
TZOFFSETFROM:+0200
TZOFFSETTO:+0100
TZNAME:CET
DTSTART:20251026T010000
END:STANDARD
BEGIN:DAYLIGHT
TZOFFSETFROM:+0100
TZOFFSETTO:+0200
TZNAME:CEST
DTSTART:20260329T010000
END:DAYLIGHT
BEGIN:STANDARD
TZOFFSETFROM:+0200
TZOFFSETTO:+0100
TZNAME:CET
DTSTART:20261025T010000
END:STANDARD
BEGIN:DAYLIGHT
TZOFFSETFROM:+0100
TZOFFSETTO:+0200
TZNAME:CEST
DTSTART:20270328T010000
END:DAYLIGHT
BEGIN:STANDARD
TZOFFSETFROM:+0200
TZOFFSETTO:+0100
TZNAME:CET
DTSTART:20271031T010000
END:STANDARD
END:VTIMEZONE
BEGIN:VTIMEZONE
TZID:UTC
BEGIN:STANDARD
TZOFFSETFROM:+0000
TZOFFSETTO:+0000
TZNAME:UTC
DTSTART:20250101T000000
END:STANDARD
END:VTIMEZONE
BEGIN:VEVENT
DTSTART;TZID=Europe/Copenhagen:20260425T100000
DTEND;TZID=Europe/Copenhagen:20260425T150000
DTSTAMP:20260415T175811
CREATED:20260312T112342Z
LAST-MODIFIED:20260312T112342Z
UID:2429-1777111200-1777129200@stabystars.dk
SUMMARY:Generalforsamling Dansk Stabyhoun Klub
DESCRIPTION:Dagsorden \n\n\n\n\nValg af dirigent (bestyrelsen foreslår inviteret dirigent fra DKK)\n\n\n\nValg af referent\n\n\n\nValg af 2 stemmetællere\n\n\n\nForelæggelse af formandens beretning\n\n\n\nForelæggelse af det reviderede regnskab til godkendelse og meddelelse af ansvarsfrihed (decharge)\n\n\n\nForelæggelse af budget til godkendelse og fastsættelse af kontingent\n\n\n\nBehandling af indkomne forslag*\n\n\n\nValg af ny bestyrelse og suppleanter\n\n\n\nValg af 1 revisorer og 1 revisorsuppleant\n\n\n\nEventuelt.​\n\n\n\n\n*Forslag der ønskes behandlet på generalforsamlingen\, skal være i klubbens formand eller sekretær i hænde senest 4 uger før generalforsamlingen.  \n\n\n\nEventuelle forslag offentliggøres på klubbens hjemmeside mindst 10 dage gør generalforsamlingen. \n\n\n\nTilmelding til generalforsamling er ikke nødvendig.Alle medlemmer har adgang. Stemmeberettigede er kun de\, som har betalt kontingent senest 25. januar 2026 jf. klubbens vedtægter. \n\n\n\nVi henstiller til at der ikke medbringes hund til generalforsamlingen.
URL:https://stabystars.dk/event/generalforsamling-dansk-stabyhoun-klub-2/
LOCATION:Brædstrup Bibliotek\, Niels Wongesvej 8\, Brædstrup\, 8740
END:VEVENT
BEGIN:VEVENT
DTSTART;TZID=Europe/Copenhagen:20260509T080000
DTEND;TZID=Europe/Copenhagen:20260509T180000
DTSTAMP:20260415T175811
CREATED:20260312T113029Z
LAST-MODIFIED:20260312T113030Z
UID:2433-1778313600-1778349600@stabystars.dk
SUMMARY:Mentalbeskrivelse\, Mariager
DESCRIPTION:Dansk Stabyhoun klub\, vil gerne invitere dig og din Stabyhoun til en dag i mentalbeskrivelsens tegn. \n\n\n\nPå denne dag kan både du og vi blive meget klogere på din hunds medfødte mentale egenskaber og kapacitet. Du kan bruge mentalbeskrivelsen til at finde ud af\, om din hund har nogle særlige udfordringer du ønsker at arbejde med. Det kan også være at du bliver positiv overrasket\, fordi din hund ikke reagerer i en given situation som du tænkte den ville. \n\n\n\nDet er meget lærerigt for dig som hundeejer at deltage i mentalbeskrivelse\, og det er et vigtigt redskab for avlerne\, om der er særlige egenskaber ved deres afkom\, som de skal være opmærksomme på. \n\n\n\nDansk Stabyhoun Klub anbefaler\, at du får mentalbeskrevet din Stabyhoun\, når du føler\, at den er moden til at blive mentalbeskrevet. Det er oftest omkring 18 måneder at en Stabyhoun er moden til det. Alle resultater er brugbare for os som klub og især hvis din hund skal indgå i avl. \n\n\n\n​Du kan læse mere om tid og sted\, og hvordan du tilmelder din hund til mentalbeskrivelse her: \n\n\n\nMentalbeskrivelse Jylland \n\n\n\nVi glæder os til at se jer!
URL:https://stabystars.dk/event/mentalbeskrivelse-mariager/
LOCATION:Mentalbeskrivelse\, Vest Hemvej 18\, Mariager\, 9550
END:VEVENT
BEGIN:VEVENT
DTSTART;TZID=UTC:20260821T160000
DTEND;TZID=UTC:20260823T170000
DTSTAMP:20260415T175811
CREATED:20260312T113620Z
LAST-MODIFIED:20260312T114324Z
UID:2438-1787328000-1787504400@stabystars.dk
SUMMARY:Dansk Stabyhoun Klub specialudstilling
DESCRIPTION:Vi har booket hytte på Camp Hverringe igen i år. Vi håber at bestyrelsen i Dansk Stabyhoun Klub vil afholde arrangementet igen. Ellers holder vi bare forlænget weekend med hundene i det fynske. Det kan også noget 😄
URL:https://stabystars.dk/event/dansk-stabyhoun-klub-specialudstilling-2/
LOCATION:Camp Hverringe\, Blæsenborgvej 200\, Dalby\, 5380\, Denmark
CATEGORIES:Sociale aktiviteter,Udstillinger
END:VEVENT
END:VCALENDAR